BEGIN:VCALENDAR
PRODID:-//github.com/rianjs/ical.net//NONSGML ical.net 4.0//EN
VERSION:2.0
BEGIN:VEVENT
DESCRIPTION:Details:\nhttps://bbyo.org/bbyo-near-you/regions/nassau-suffol
 k-region/birkot-rehersal-dinner
DTEND:20240326T200000
DTSTAMP:20260422T202649Z
DTSTART:20240326T183000
LOCATION:Mid-Island Y JCC
SEQUENCE:0
SUMMARY:Birkot Rehersal Dinner
UID:4649959c-09f1-4414-b074-913cc37a8704
END:VEVENT
END:VCALENDAR
