BEGIN:VCALENDAR
PRODID:-//github.com/rianjs/ical.net//NONSGML ical.net 4.0//EN
VERSION:2.0
BEGIN:VEVENT
DESCRIPTION:Details:\nhttps://bbyo.org/bbyo-near-you/regions/wisconsin-reg
 ion/azaa-basketball-season-2
DTEND;VALUE=DATE:20220602
DTSTAMP:20260421T043144Z
DTSTART;VALUE=DATE:20220428
LOCATION:JCC GYM
SEQUENCE:0
SUMMARY:AZAA Basketball Season 2
UID:922e76d1-5f46-4d3d-9531-5ce628555302
END:VEVENT
END:VCALENDAR
