BEGIN:VCALENDAR
PRODID:-//github.com/rianjs/ical.net//NONSGML ical.net 4.0//EN
VERSION:2.0
BEGIN:VEVENT
DESCRIPTION:Details:\nhttps://bbyo.org/bbyo-near-you/regions/keystone-moun
 tain-region/kmr-tournies-2017!
DTEND;VALUE=DATE:20171112
DTSTAMP:20260423T021121Z
DTSTART;VALUE=DATE:20171110
LOCATION:
SEQUENCE:0
SUMMARY:KMR Tournies 2017!
UID:2d221d07-a1ad-4114-bfcf-1cf69adf0bee
END:VEVENT
END:VCALENDAR
