BEGIN:VCALENDAR
PRODID:-//github.com/rianjs/ical.net//NONSGML ical.net 4.0//EN
VERSION:2.0
BEGIN:VEVENT
DESCRIPTION:Details:\nhttps://bbyo.org/bbyo-near-you/regions/wisconsin-reg
 ion/wi-wrc-2015-regular-(pc3010)
DTEND;VALUE=DATE:20151206
DTSTAMP:20260421T043610Z
DTSTART;VALUE=DATE:20151204
LOCATION:
SEQUENCE:0
SUMMARY:WI - WRC 2015 - Regular (PC3010)
UID:d15cac24-2b9f-462c-adee-17577a957a58
END:VEVENT
END:VCALENDAR
