BEGIN:VCALENDAR
PRODID:-//github.com/rianjs/ical.net//NONSGML ical.net 4.0//EN
VERSION:2.0
BEGIN:VEVENT
DESCRIPTION:Details:\nhttps://bbyo.org/bbyo-near-you/regions/new-england-r
 egion/bbyo-ner-prozdor-teen-open-circle-jewish-learn-(2)\n\nSummary:\nNew
  program with Prozdor Teen Open Circle!
DTEND:20211121T203000
DTSTAMP:20260423T200719Z
DTSTART:20211121T190000
LOCATION:Zoom
SEQUENCE:0
SUMMARY:BBYO NER Prozdor Teen Open Circle Jewish Learning Sessions
UID:71bbdfec-7dfa-46a6-8170-dc0b408e78e7
END:VEVENT
END:VCALENDAR
