BEGIN:VCALENDAR
PRODID:-//github.com/rianjs/ical.net//NONSGML ical.net 4.0//EN
VERSION:2.0
BEGIN:VEVENT
DESCRIPTION:Details:\nhttps://bbyo.org/bbyo-near-you/regions/greater-atlan
 ta-region/gar-new-member-convention\n\nSummary:\nREGISTER ON MJCCA WEBSIT
 E: https://www.atlantajcc.org/pldb-live/new-member-convention-nmc-40661/?
 back=pldb_active
DTEND:20181014T160000
DTSTAMP:20260419T123020Z
DTSTART:20181012T160000
LOCATION:Rock Eagle 4-H Camp
SEQUENCE:0
SUMMARY:GAR New Member Convention
UID:f12d80e7-ec3c-4f1e-83a8-f44d42822d02
END:VEVENT
END:VCALENDAR
