BEGIN:VCALENDAR
PRODID:-//github.com/rianjs/ical.net//NONSGML ical.net 4.0//EN
VERSION:2.0
BEGIN:VEVENT
DESCRIPTION:Details:\nhttps://bbyo.org/bbyo-near-you/regions/south-jersey-
 region/sjr-states\n\nSummary:\nJoin us as we celebrate our year together!
  We will be live streaming this event via zoom. ANYONE is welcome to atte
 nd. Use the link below to register and attend: \n\nhttps://bbyo-org.zoom.
 us/m
DTEND:20210418T180000
DTSTAMP:20260422T101408Z
DTSTART:20210418T160000
LOCATION:Zoom
SEQUENCE:0
SUMMARY:SJR States
UID:765cb99d-8ad4-40cd-9f66-474ea16a52c5
END:VEVENT
END:VCALENDAR
