BEGIN:VCALENDAR
PRODID:-//github.com/rianjs/ical.net//NONSGML ical.net 4.0//EN
VERSION:2.0
BEGIN:VEVENT
DESCRIPTION:Details:\nhttps://bbyo.org/bbyo-near-you/regions/mountain-regi
 on/mtn-fall-convention-2015-flash-sale-(pc-3000)\n\nSummary:\nGet ready f
 or the best convention yet! Our Fall Convention is brotherhood/sisterhood
  weekend focused on building relationships and friendships with one anoth
 er despite differences\, distance\,
DTEND:20151101T130000
DTSTAMP:20260423T002457Z
DTSTART:20151030T153000
LOCATION:Camp Pine Summit
SEQUENCE:0
SUMMARY:MTN - Fall Convention 2015 FLASH SALE (PC 3000)
UID:334cc679-c020-4ab4-bd22-1351b929c4fa
END:VEVENT
END:VCALENDAR
