BEGIN:VCALENDAR
PRODID:-//github.com/rianjs/ical.net//NONSGML ical.net 4.0//EN
VERSION:2.0
BEGIN:VEVENT
DESCRIPTION:Details:\nhttps://bbyo.org/bbyo-near-you/regions/michigan-regi
 on/aza-regional-meeting-(5)
DTEND:20220915T200000
DTSTAMP:20260425T182917Z
DTSTART:20220915T190000
LOCATION:BBYO Office
SEQUENCE:0
SUMMARY:AZA Regional Meeting
UID:502633ff-9ff9-4de7-9f83-aaf4e89631b8
END:VEVENT
END:VCALENDAR
