BEGIN:VCALENDAR
PRODID:-//github.com/rianjs/ical.net//NONSGML ical.net 4.0//EN
VERSION:2.0
BEGIN:VEVENT
DESCRIPTION:Details:\nhttps://bbyo.org/bbyo-near-you/regions/connecticut-v
 alley-region/connecticut-valley-regional-kickoff
DTEND:20221009T160000
DTSTAMP:20260422T202544Z
DTSTART:20221009T130000
LOCATION:Quassy
SEQUENCE:0
SUMMARY:Connecticut Valley Regional Kickoff
UID:43d56447-f5fa-480a-9b50-32bac3842967
END:VEVENT
END:VCALENDAR
