BEGIN:VCALENDAR
PRODID:-//github.com/rianjs/ical.net//NONSGML ical.net 4.0//EN
VERSION:2.0
BEGIN:VEVENT
DESCRIPTION:Details:\nhttps://bbyo.org/bbyo-near-you/regions/north-texas-o
 klahoma-region/walk-for-friendship
DTEND:20230604T153000
DTSTAMP:20260420T133111Z
DTSTART:20230604T123000
LOCATION:Dallas Texas
SEQUENCE:0
SUMMARY:Walk for Friendship
UID:da3f7f79-4277-4873-90eb-8655c6597cd8
END:VEVENT
END:VCALENDAR
