BEGIN:VCALENDAR
PRODID:-//github.com/rianjs/ical.net//NONSGML ical.net 4.0//EN
VERSION:2.0
BEGIN:VEVENT
DESCRIPTION:Details:\nhttps://bbyo.org/bbyo-near-you/regions/lonestar-regi
 on/houston-fall-2023-chapter-elections
DTEND:20230521T200000
DTSTAMP:20260423T114421Z
DTSTART:20230521T130000
LOCATION:ERJCC
SEQUENCE:0
SUMMARY:Houston Fall 2023 Chapter Elections
UID:0f92572e-baa2-45aa-91df-d46aa79aaf38
END:VEVENT
END:VCALENDAR
