BEGIN:VCALENDAR
PRODID:-//github.com/rianjs/ical.net//NONSGML ical.net 4.0//EN
VERSION:2.0
BEGIN:VEVENT
DESCRIPTION:Details:\nhttps://bbyo.org/bbyo-near-you/regions/mid-america-r
 egion-north-star-council/giving-bbyo-day-phonathon!
DTEND:20221129T200000
DTSTAMP:20260425T183201Z
DTSTART:20221129T180000
LOCATION:Minnetonka Minnesota
SEQUENCE:0
SUMMARY:Giving BBYO Day Phonathon!
UID:fc29f224-e6cc-4aa5-98a1-3ad5a2ada62c
END:VEVENT
END:VCALENDAR
