BEGIN:VCALENDAR
PRODID:-//github.com/rianjs/ical.net//NONSGML ical.net 4.0//EN
VERSION:2.0
BEGIN:VEVENT
DESCRIPTION:Details:\nhttps://bbyo.org/bbyo-near-you/regions/hudson-valley
 -region/hvr-execs-2021
DTEND:20210912T120000
DTSTAMP:20260419T123208Z
DTSTART:20210911T180000
LOCATION:Scarsdale New York
SEQUENCE:0
SUMMARY:HVR Execs 2021
UID:cb95705b-cadb-4069-833c-4789490bb28f
END:VEVENT
END:VCALENDAR
