BEGIN:VCALENDAR
PRODID:-//github.com/rianjs/ical.net//NONSGML ical.net 4.0//EN
VERSION:2.0
BEGIN:VEVENT
DESCRIPTION:Details:\nhttps://bbyo.org/bbyo-near-you/regions/north-texas-o
 klahoma-region/nto-regional-convention
DTEND;VALUE=DATE:20171224
DTSTAMP:20260425T235327Z
DTSTART;VALUE=DATE:20171221
LOCATION:
SEQUENCE:0
SUMMARY:NTO Regional Convention
UID:17e14f3a-9466-41a8-8805-b0cec8aaa054
END:VEVENT
END:VCALENDAR
