BEGIN:VCALENDAR
PRODID:-//github.com/rianjs/ical.net//NONSGML ical.net 4.0//EN
VERSION:2.0
BEGIN:VEVENT
DESCRIPTION:Details:\nhttps://bbyo.org/bbyo-near-you/regions/pacific-weste
 rn-region/san-diego-bbyo-city-kickoff!-cosmic-bowling
DTEND:20221001T220000
DTSTAMP:20260425T123936Z
DTSTART:20221001T190000
LOCATION:San Diego California
SEQUENCE:0
SUMMARY:San Diego BBYO City Kickoff! Cosmic Bowling
UID:7cf616ff-b01f-4e37-b9b8-a19bd4f14db1
END:VEVENT
END:VCALENDAR
