BEGIN:VCALENDAR
PRODID:-//github.com/rianjs/ical.net//NONSGML ical.net 4.0//EN
VERSION:2.0
BEGIN:VEVENT
DESCRIPTION:Details:\nhttps://bbyo.org/bbyo-near-you/regions/kentucky-indi
 ana-ohio-region/kio-70th-regional-board-fall-retreat
DTEND:20240825T180000
DTSTAMP:20260425T235216Z
DTSTART:20240823T180000
LOCATION:Cincinnati
SEQUENCE:0
SUMMARY:KIO 70th Regional Board Fall Retreat
UID:0b553d12-202f-4532-9e2e-5a9c610557ae
END:VEVENT
END:VCALENDAR
