BEGIN:VCALENDAR
PRODID:-//github.com/rianjs/ical.net//NONSGML ical.net 4.0//EN
VERSION:2.0
BEGIN:VEVENT
DESCRIPTION:Details:\nhttps://bbyo.org/bbyo-near-you/regions/eastern-regio
 n/charlotte-bbyo-carowinds-kickoff-drop-off-for-seas
DTEND:20210912T153000
DTSTAMP:20260423T214909Z
DTSTART:20210912T110000
LOCATION:Carowinds
SEQUENCE:0
SUMMARY:Charlotte BBYO Carowinds Kickoff -Drop off for season ticket holde
 rs
UID:f347ba2e-879f-4bd4-a3c0-26617a7a20aa
END:VEVENT
END:VCALENDAR
