BEGIN:VCALENDAR
PRODID:-//github.com/rianjs/ical.net//NONSGML ical.net 4.0//EN
VERSION:2.0
BEGIN:VEVENT
DESCRIPTION:Details:\nhttps://bbyo.org/bbyo-near-you/regions/lonestar-regi
 on/lonestar-regional-kallah
DTEND;VALUE=DATE:20180304
DTSTAMP:20260419T190807Z
DTSTART;VALUE=DATE:20180302
LOCATION:
SEQUENCE:0
SUMMARY:Lonestar Regional Kallah
UID:04d8b4e2-c68b-4138-92a1-1d1d8e2d4003
END:VEVENT
END:VCALENDAR
