BEGIN:VCALENDAR
PRODID:-//github.com/rianjs/ical.net//NONSGML ical.net 4.0//EN
VERSION:2.0
BEGIN:VEVENT
DESCRIPTION:Details:\nhttps://bbyo.org/bbyo-near-you/regions/new-england-r
 egion/bbyo-ner-global-shabbat-celebration\n\nSummary:\nCome together virt
 ually with Jewish teens from the region to celebrate Shabbat and Hanukkah
  with a short services and a variety of immersive experiences based aroun
 d these holidays as well a
DTEND:20201211T203000
DTSTAMP:20260423T021019Z
DTSTART:20201211T190000
LOCATION:Zoom
SEQUENCE:0
SUMMARY:BBYO NER Global Shabbat Celebration
UID:39940c4a-7b18-432b-9504-c70b53220f97
END:VEVENT
END:VCALENDAR
