BEGIN:VCALENDAR
PRODID:-//github.com/rianjs/ical.net//NONSGML ical.net 4.0//EN
VERSION:2.0
BEGIN:VEVENT
DESCRIPTION:Details:\nhttps://bbyo.org/bbyo-near-you/regions/pacific-weste
 rn-region/la-azaa
DTEND:20220511T203000
DTSTAMP:20260421T092920Z
DTSTART:20220511T180000
LOCATION:Woodland Hills California
SEQUENCE:0
SUMMARY:LA AZAA
UID:8601fe9a-323f-4bd8-9622-a140ac3c7970
END:VEVENT
END:VCALENDAR
