BEGIN:VCALENDAR
PRODID:-//github.com/rianjs/ical.net//NONSGML ical.net 4.0//EN
VERSION:2.0
BEGIN:VEVENT
DESCRIPTION:Details:\nhttps://bbyo.org/bbyo-near-you/regions/gold-coast-re
 gion/gcr-mit-ait-retreat
DTEND:20220424T164500
DTSTAMP:20260420T132350Z
DTSTART:20220424T121500
LOCATION:Parkland Florida
SEQUENCE:0
SUMMARY:GCR MIT AIT Retreat
UID:60494ffc-2fa1-4949-aa97-580fbb6766a8
END:VEVENT
END:VCALENDAR
