BEGIN:VCALENDAR
PRODID:-//github.com/rianjs/ical.net//NONSGML ical.net 4.0//EN
VERSION:2.0
BEGIN:VEVENT
DESCRIPTION:Details:\nhttps://bbyo.org/bbyo-near-you/regions/connecticut-v
 alley-region/cvr-azaa-bbgg-dodgeball-2016\n\nSummary:\nWelcome to Dodgeba
 ll 2016!\n\nThis year participants will be playing in 3 separate tourname
 nts for AZA\, BBG\, and BBYO chapters. Winning chapters take home the Spi
 rit Gavel\, Cup and Trophy fo
DTEND:20160605T160000
DTSTAMP:20260420T100520Z
DTSTART:20160605T104500
LOCATION:JCC of Greater New Haven Gymnasium
SEQUENCE:0
SUMMARY:CVR AZAA/BBGG Dodgeball 2016
UID:1a2a2674-4417-48dd-99c7-9fd7fb8bda64
END:VEVENT
END:VCALENDAR
