BEGIN:VCALENDAR
PRODID:-//github.com/rianjs/ical.net//NONSGML ical.net 4.0//EN
VERSION:2.0
BEGIN:VEVENT
DESCRIPTION:Details:\nhttps://bbyo.org/bbyo-near-you/regions/central-regio
 n-west/havdalah-at-home-with-crw\n\nSummary:\nJoin Central Region West on
  August 8th at 7:30PM from the comfort of your own couch to celebrate Hav
 dalah at Home with CRW.
DTEND:20200808T211500
DTSTAMP:20260420T103348Z
DTSTART:20200808T193000
LOCATION:Virtual
SEQUENCE:0
SUMMARY:Havdalah at Home with CRW
UID:2ba4a8a8-97cd-4b37-9e59-0b032c7665cf
END:VEVENT
END:VCALENDAR
