BEGIN:VCALENDAR
PRODID:-//github.com/rianjs/ical.net//NONSGML ical.net 4.0//EN
VERSION:2.0
BEGIN:VEVENT
DESCRIPTION:Details:\nhttps://bbyo.org/bbyo-near-you/regions/wisconsin-reg
 ion/oneg-4-7-2006
DTEND:20060407T043000
DTSTAMP:20260425T194812Z
DTSTART:20060407T031500
LOCATION:Dugout in the JCC
SEQUENCE:0
SUMMARY:Oneg 4.7.2006
UID:d412d00d-b2d6-4248-9724-adb61711bd2c
END:VEVENT
END:VCALENDAR
