BEGIN:VCALENDAR
PRODID:-//github.com/rianjs/ical.net//NONSGML ical.net 4.0//EN
VERSION:2.0
BEGIN:VEVENT
DESCRIPTION:Details:\nhttps://bbyo.org/bbyo-near-you/regions/mid-america-r
 egion-omaha-council/omaha-transportation-to-fall-(mar-kio)-convention\n\n
 Summary:\nTransportation from Omaha to Fall Regional Convention with MAR/
 KIO
DTEND:20151011T235900
DTSTAMP:20260423T042531Z
DTSTART:20151009T080000
LOCATION:Omaha JCC
SEQUENCE:0
SUMMARY:Omaha Transportation to Fall (MAR KIO) Convention 2015
UID:5dceac68-d32e-40e0-ae4b-689ac7c8e7ff
END:VEVENT
END:VCALENDAR
