BEGIN:VCALENDAR
PRODID:-//github.com/rianjs/ical.net//NONSGML ical.net 4.0//EN
VERSION:2.0
BEGIN:VEVENT
DESCRIPTION:Details:\nhttps://bbyo.org/bbyo-near-you/regions/rocky-mountai
 n-region/rmr-royalty\n\nSummary:\nWatch your AZA RB and BBG RB compete to
  be crowned the first Mr. AZA and Miss BBG through a show that includes a
  lip sync battle\, talent show\, and questionnaire of all the contestants
 .
DTEND:20201201T210000
DTSTAMP:20260425T182827Z
DTSTART:20201201T190000
LOCATION:
SEQUENCE:0
SUMMARY:RMR Royalty
UID:cf2cd78b-e423-493e-a7af-f7c9690dd18d
END:VEVENT
END:VCALENDAR
