BEGIN:VCALENDAR
PRODID:-//github.com/rianjs/ical.net//NONSGML ical.net 4.0//EN
VERSION:2.0
BEGIN:VEVENT
DESCRIPTION:Details:\nhttps://bbyo.org/bbyo-near-you/regions/great-midwest
 -region/gmr-givingbbyoday-11-29-16
DTEND:20161129T200000
DTSTAMP:20260426T013200Z
DTSTART:20161129T180000
LOCATION:BBYO
SEQUENCE:0
SUMMARY:GMR GivingBBYODay - 11/29/16
UID:0274a3d4-4ee9-434e-947d-60fc57fffce9
END:VEVENT
END:VCALENDAR
