BEGIN:VCALENDAR
PRODID:-//github.com/rianjs/ical.net//NONSGML ical.net 4.0//EN
VERSION:2.0
BEGIN:VEVENT
DESCRIPTION:Details:\nhttps://bbyo.org/bbyo-near-you/regions/nassau-suffol
 k-region/nsr-winter-kickoff-20s-edition\n\nSummary:\nWelcome back NSR! As
  the new decade begins\, we are excited to revisit the roaring 20's with 
 our annual Winter Kickoff Dance. Come dressed in your roaring 20's attire
  (think Gatsby) and get r
DTEND:20200201T213000
DTSTAMP:20260420T100509Z
DTSTART:20200201T190000
LOCATION:Mid Island JCC\, Plainview NY
SEQUENCE:0
SUMMARY:NSR Winter Kickoff 20s edition
UID:681e88c9-acc1-45b7-8e7b-f6342e813f68
END:VEVENT
END:VCALENDAR
