BEGIN:VCALENDAR
PRODID:-//github.com/rianjs/ical.net//NONSGML ical.net 4.0//EN
VERSION:2.0
BEGIN:VEVENT
DESCRIPTION:Details:\nhttps://bbyo.org/bbyo-near-you/regions/north-texas-o
 klahoma-region/nto-38th-regional-board-candidate-info-meeting
DTEND:20211202T190000
DTSTAMP:20260422T054924Z
DTSTART:20211202T183000
LOCATION:Zoom
SEQUENCE:0
SUMMARY:NTO 38th Regional Board Candidate Info Meeting
UID:a2c48b71-a5b2-413f-b7c2-2d330753d6a3
END:VEVENT
END:VCALENDAR
