BEGIN:VCALENDAR
PRODID:-//github.com/rianjs/ical.net//NONSGML ical.net 4.0//EN
VERSION:2.0
BEGIN:VEVENT
DESCRIPTION:Details:\nhttps://bbyo.org/bbyo-near-you/regions/eastern-regio
 n/charlotte-bbyo-global-shabbat\n\nSummary:\nJoin Charlotte BBYO as we we
 lcome our Game Changers Harry Swimmer and Larry King. All parents\, teens
  and prospects invited to attend.
DTEND:20161202T210000
DTSTAMP:20260419T123208Z
DTSTART:20161202T190000
LOCATION:Levine JCC
SEQUENCE:0
SUMMARY:Charlotte BBYO Global Shabbat
UID:3211f8b8-e6c4-4e7c-9d3b-34552588a1ca
END:VEVENT
END:VCALENDAR
