BEGIN:VCALENDAR
PRODID:-//github.com/rianjs/ical.net//NONSGML ical.net 4.0//EN
VERSION:2.0
BEGIN:VEVENT
DESCRIPTION:Details:\nhttps://bbyo.org/bbyo-near-you/regions/new-england-r
 egion/ner-newton-bbyo-week-froyo-night-(event-1)\n\nSummary:\nThis regist
 ration page is for Event #1 for Newton BBYO Week!Sunday\, August 28\, 5-7
  pm\, Orange Leaf\, Needham Heights\, MA (FREE FROYO)We have two other ev
 ents...if you are in
DTEND:20160828T190000
DTSTAMP:20260421T223737Z
DTSTART:20160828T170000
LOCATION:Orange Leaf
SEQUENCE:0
SUMMARY:NER - Newton BBYO Week - Froyo Night (Event #1) - (PC5000)
UID:4983658f-0bf2-4608-8b80-9b1e7085f4a7
END:VEVENT
END:VCALENDAR
