BEGIN:VCALENDAR
PRODID:-//github.com/rianjs/ical.net//NONSGML ical.net 4.0//EN
VERSION:2.0
BEGIN:VEVENT
DESCRIPTION:Details:\nhttps://bbyo.org/bbyo-near-you/regions/northern-regi
 on-east-northern-virginia-council/nova-bbyo-s-25th-anniversary\n\nSummary
 :\nWe’ll be honoring Roz Engels\, the woman who started it all!\n\nHors D
 ’ourves\, Wine\, and Dessert will be served\n\nFor questions contact jack
 ieuu@comcast.net
DTEND:20070317T230000
DTSTAMP:20260422T221625Z
DTSTART:20070317T203000
LOCATION:JCC of Northern Virginia
SEQUENCE:0
SUMMARY:Nova BBYO's 25th Anniversary
UID:dd5e4af7-ff16-4d11-b4a0-f59f351f5a91
END:VEVENT
END:VCALENDAR
