BEGIN:VCALENDAR
PRODID:-//github.com/rianjs/ical.net//NONSGML ical.net 4.0//EN
VERSION:2.0
BEGIN:VEVENT
DESCRIPTION:Details:\nhttps://bbyo.org/bbyo-near-you/regions/liberty-regio
 n/ic-2022-launch-night
DTEND:20211019T200000
DTSTAMP:20260421T043144Z
DTSTART:20211019T193000
LOCATION:Zoom
SEQUENCE:0
SUMMARY:IC 2022 Launch Night
UID:3816788a-4d1a-4ace-b794-728af8b62f3f
END:VEVENT
END:VCALENDAR
