BEGIN:VCALENDAR
PRODID:-//github.com/rianjs/ical.net//NONSGML ical.net 4.0//EN
VERSION:2.0
BEGIN:VEVENT
DESCRIPTION:Details:\nhttps://bbyo.org/bbyo-near-you/regions/mid-america-r
 egion-st-louis-council/council-capture-the-flag
DTEND:20061104T230000
DTSTAMP:20260425T235408Z
DTSTART:20061104T200000
LOCATION:JCC Wohl Building
SEQUENCE:0
SUMMARY:Council Capture the Flag
UID:dc8f91a1-c3e2-410d-989c-275bc905ca0f
END:VEVENT
END:VCALENDAR
