BEGIN:VCALENDAR
PRODID:-//github.com/rianjs/ical.net//NONSGML ical.net 4.0//EN
VERSION:2.0
BEGIN:VEVENT
DESCRIPTION:Details:\nhttps://bbyo.org/bbyo-near-you/regions/liberty-regio
 n/liberty-winter-convention\n\nSummary:\nWinter Convention isn't canceled
 \, it's just gone virtual!\n\nJoin us for Liberty Region's first-ever Win
 ter Convention\, throughout the weekend of December 11-13th. \n\nLiberty 
 Region is excited
DTEND:20201213T140000
DTSTAMP:20260422T120218Z
DTSTART:20201211T180000
LOCATION:Virtual BBYO On Demand
SEQUENCE:0
SUMMARY:Liberty Winter Convention
UID:c4201601-83a4-42bb-a40d-e14655654d7a
END:VEVENT
END:VCALENDAR
