BEGIN:VCALENDAR
PRODID:-//github.com/rianjs/ical.net//NONSGML ical.net 4.0//EN
VERSION:2.0
BEGIN:VEVENT
DESCRIPTION:Details:\nhttps://bbyo.org/bbyo-near-you/regions/northern-regi
 on-east-northern-virginia-council/nova-night-sukkot
DTEND:20191019T200000
DTSTAMP:20260425T235216Z
DTSTART:20191019T180000
LOCATION:
SEQUENCE:0
SUMMARY:NoVA Night: Sukkot
UID:6915687b-073c-43f2-a9a8-aec0cc06ab14
END:VEVENT
END:VCALENDAR
