BEGIN:VCALENDAR
PRODID:-//github.com/rianjs/ical.net//NONSGML ical.net 4.0//EN
VERSION:2.0
BEGIN:VEVENT
DESCRIPTION:Details:\nhttps://bbyo.org/bbyo-near-you/regions/rocky-mountai
 n-region/rmr-bbyo-small-city-camping-trip\n\nSummary:\nJoin us for our an
 nual small city chapter camping trip!
DTEND:20180812T113000
DTSTAMP:20260426T013202Z
DTSTART:20180810T150000
LOCATION:Lake Pueblo State Park
SEQUENCE:0
SUMMARY:RMR BBYO Small City Camping Trip
UID:82342a24-bcb8-4fcc-bad6-2d3fc9e012af
END:VEVENT
END:VCALENDAR
