BEGIN:VCALENDAR
PRODID:-//github.com/rianjs/ical.net//NONSGML ical.net 4.0//EN
VERSION:2.0
BEGIN:VEVENT
DESCRIPTION:Details:\nhttps://bbyo.org/bbyo-near-you/regions/evergreen-reg
 ion/charlotte-intake
DTEND:20170905T000100
DTSTAMP:20260425T123017Z
DTSTART;VALUE=DATE:20170905
LOCATION:
SEQUENCE:0
SUMMARY:Charlotte Intake
UID:a8155780-10a4-40da-917d-bb1abe73a495
END:VEVENT
END:VCALENDAR
