BEGIN:VCALENDAR
PRODID:-//github.com/rianjs/ical.net//NONSGML ical.net 4.0//EN
VERSION:2.0
BEGIN:VEVENT
DESCRIPTION:Details:\nhttps://bbyo.org/bbyo-near-you/regions/lake-ontario-
 region/laserquest-council-evening
DTEND:20061029T190000
DTSTAMP:20260422T001913Z
DTSTART:20061028T234500
LOCATION:Laserquest Richmond Hill
SEQUENCE:0
SUMMARY:Laserquest Council Evening
UID:163dcf9f-349f-4dd8-abcd-9501a5e11b9f
END:VEVENT
END:VCALENDAR
