BEGIN:VCALENDAR
PRODID:-//github.com/rianjs/ical.net//NONSGML ical.net 4.0//EN
VERSION:2.0
BEGIN:VEVENT
DESCRIPTION:Details:\nhttps://bbyo.org/bbyo-near-you/regions/connecticut-v
 alley-region/cvr-winter-kallah
DTEND;VALUE=DATE:20180128
DTSTAMP:20260421T073551Z
DTSTART;VALUE=DATE:20180126
LOCATION:
SEQUENCE:0
SUMMARY:CVR Winter Kallah
UID:8aa6e650-3531-43f5-aeae-ab2035f0c269
END:VEVENT
END:VCALENDAR
