BEGIN:VCALENDAR
PRODID:-//github.com/rianjs/ical.net//NONSGML ical.net 4.0//EN
VERSION:2.0
BEGIN:VEVENT
DESCRIPTION:Details:\nhttps://bbyo.org/bbyo-near-you/regions/lake-ontario-
 region/t2-06-ms-walkathon\n\nSummary:\nTikkun Toronto Volunteering
DTEND;VALUE=DATE:20060423
DTSTAMP:20260423T042700Z
DTSTART;VALUE=DATE:20060423
LOCATION:
SEQUENCE:0
SUMMARY:T2-06 MS Walkathon
UID:d26dc463-49f2-4f73-a0d5-1a8c735c5938
END:VEVENT
END:VCALENDAR
