BEGIN:VCALENDAR
PRODID:-//github.com/rianjs/ical.net//NONSGML ical.net 4.0//EN
VERSION:2.0
BEGIN:VEVENT
DESCRIPTION:Details:\nhttps://bbyo.org/bbyo-near-you/regions/michigan-regi
 on/israel-education-learn\,-act\,-teach
DTEND:20231107T180000
DTSTAMP:20260422T221712Z
DTSTART:20231107T160000
LOCATION:Specific location information will be sent to confirmed registran
 ts
SEQUENCE:0
SUMMARY:Israel Education- Learn\, Act\, Teach
UID:acbc84e1-5802-4d51-816f-07f1b2834408
END:VEVENT
END:VCALENDAR
