BEGIN:VCALENDAR
PRODID:-//github.com/rianjs/ical.net//NONSGML ical.net 4.0//EN
VERSION:2.0
BEGIN:VEVENT
DESCRIPTION:Details:\nhttps://bbyo.org/bbyo-near-you/regions/mid-america-r
 egion-kansas-city-council/2024-leadership-training-institute
DTEND:20240907T140000
DTSTAMP:20260423T081849Z
DTSTART:20240906T080000
LOCATION:Noah Bergh's House
SEQUENCE:0
SUMMARY:2024 Leadership Training Institute
UID:89ecee5b-9e32-4772-8db1-ef341edaad04
END:VEVENT
END:VCALENDAR
