BEGIN:VCALENDAR
PRODID:-//github.com/rianjs/ical.net//NONSGML ical.net 4.0//EN
VERSION:2.0
BEGIN:VEVENT
DESCRIPTION:Details:\nhttps://bbyo.org/bbyo-near-you/regions/north-florida
 -region/nfr-fall-convention
DTEND:20221106T120000
DTSTAMP:20260423T114420Z
DTSTART:20221104T160000
LOCATION:
SEQUENCE:0
SUMMARY:NFR Fall Convention
UID:962a5e46-fae9-43de-9e45-9bd5c56afcf9
END:VEVENT
END:VCALENDAR
