BEGIN:VCALENDAR
PRODID:-//github.com/rianjs/ical.net//NONSGML ical.net 4.0//EN
VERSION:2.0
BEGIN:VEVENT
DESCRIPTION:Details:\nhttps://bbyo.org/bbyo-near-you/regions/lonestar-regi
 on/azaa-week-2\n\nSummary:\nShapiro vs. Reisbord\nLubel vs. Loeb
DTEND:20160221T203000
DTSTAMP:20260423T132036Z
DTSTART:20160221T181500
LOCATION:ERJCC
SEQUENCE:0
SUMMARY:AZAA Week 2
UID:872bdaa0-8c05-4414-bba9-1c49fed066a3
END:VEVENT
END:VCALENDAR
