BEGIN:VCALENDAR
PRODID:-//github.com/rianjs/ical.net//NONSGML ical.net 4.0//EN
VERSION:2.0
BEGIN:VEVENT
DESCRIPTION:Details:\nhttps://bbyo.org/bbyo-near-you/regions/greater-jerse
 y-region/tikvah/tikvah-board-meeting-(48)
DTEND:20211202T200000
DTSTAMP:20260421T033542Z
DTSTART:20211202T190000
LOCATION:Sarah's House
SEQUENCE:0
SUMMARY:Tikvah Board Meeting
UID:49bb1e15-009e-4f60-9853-30043c804200
END:VEVENT
END:VCALENDAR
