BEGIN:VCALENDAR
PRODID:-//github.com/rianjs/ical.net//NONSGML ical.net 4.0//EN
VERSION:2.0
BEGIN:VEVENT
DESCRIPTION:Details:\nhttps://bbyo.org/bbyo-near-you/regions/rocky-mountai
 n-region/shinshinim-meetup-(virtual)
DTEND:20201001T203000
DTSTAMP:20260424T003039Z
DTSTART:20201001T190000
LOCATION:
SEQUENCE:0
SUMMARY:Shinshinim Meetup (Virtual)
UID:6e3067c2-fee1-4bd2-b66f-9320eccc6639
END:VEVENT
END:VCALENDAR
