BEGIN:VCALENDAR
PRODID:-//github.com/rianjs/ical.net//NONSGML ical.net 4.0//EN
VERSION:2.0
BEGIN:VEVENT
DESCRIPTION:Details:\nhttps://bbyo.org/bbyo-near-you/regions/hudson-valley
 -region/hvr-new-member-overnight-2024
DTEND:20240302T170000
DTSTAMP:20260420T111151Z
DTSTART:20240301T170000
LOCATION:Mt Kisco
SEQUENCE:0
SUMMARY:HVR New Member Overnight 2024
UID:75a9a11e-62e1-4039-8349-be5d88e9ed39
END:VEVENT
END:VCALENDAR
