BEGIN:VCALENDAR
PRODID:-//github.com/rianjs/ical.net//NONSGML ical.net 4.0//EN
VERSION:2.0
BEGIN:VEVENT
DESCRIPTION:Details:\nhttps://bbyo.org/bbyo-near-you/regions/northern-regi
 on-east-baltimore-council/color-the-town-baltimore-council-bbyo-fall-kick
 of\n\nSummary:\nJoin Baltimore Council BBYO for the first event of the ye
 ar! Color-run style with music\, food\, The Cow (yes the Cow in Reisterst
 own!) sports\, and much more this is an event you don't want to
DTEND:20150830T160000
DTSTAMP:20260422T101255Z
DTSTART:20150830T140000
LOCATION:Meadowood Park\, Pavilion 3
SEQUENCE:0
SUMMARY:Color the Town: Baltimore Council BBYO Fall Kickoff 2015
UID:a984695f-d641-4cb2-b8da-05650f1eefcb
END:VEVENT
END:VCALENDAR
